BEGIN:VCALENDAR
VERSION:2.0
PRODID:-//ChamberMaster//Event Calendar 2.0//EN
METHOD:PUBLISH
X-PUBLISHED-TTL:P3D
REFRESH-INTERVAL:P3D
CALSCALE:GREGORIAN
BEGIN:VEVENT
DTSTART:20200328T173000Z
DTEND:20200328T190000Z
X-MICROSOFT-CDO-ALLDAYEVENT:FALSE
SUMMARY:Aera Soccer Park Grand Opening Celebration
DESCRIPTION:This event is Cancelled.\n\nAera Soccer Park Grand Opening Celebration\n\nHosted by the City of King and Aera Energy\n\n	Soccer drills and soccer league information\n	Free soccer balls and treats while supplies last.\n	Rain or Shine!
X-ALT-DESC;FMTTYPE=text/html:<span style="font-size:14px\;"><strong><span style="font-size:18px\;"><span style="color:#FF0000\;">This event is Cancelled.</span></span><br />\nAera Soccer Park Grand Opening Celebration<br />\nHosted by the City of King and Aera Energy</strong></span>\n<ul>\n	<li><span style="font-size:14px\;">Soccer drills and soccer league information</span></li>\n	<li><span style="font-size:14px\;">Free soccer balls and treats while supplies last.</span></li>\n	<li><span style="font-size:14px\;">Rain or Shine!</span></li>\n</ul>\n
LOCATION:Corner of Meyer St. and Calcagno St.\, across from Chalone Peaks Middle School.
UID:e.2756.4182
SEQUENCE:3
DTSTAMP:20260423T235735Z
URL:https://members.kingcitychamber.com/events/details/aera-soccer-park-grand-opening-celebration-4182
END:VEVENT

END:VCALENDAR
