BEGIN:VCALENDAR
VERSION:2.0
PRODID:-//ChamberMaster//Event Calendar 2.0//EN
METHOD:PUBLISH
X-PUBLISHED-TTL:P3D
REFRESH-INTERVAL:P3D
CALSCALE:GREGORIAN
BEGIN:VEVENT
DTSTART:20190704T033000Z
DTEND:20190704T050000Z
X-MICROSOFT-CDO-ALLDAYEVENT:FALSE
SUMMARY:Aerial Fireworks Show
DESCRIPTION:Aerial Fireworks Show
X-ALT-DESC;FMTTYPE=text/html:Aerial Fireworks Show
LOCATION:Salinas Valley Fairgrounds
UID:e.2756.2909
SEQUENCE:3
DTSTAMP:20260424T102433Z
URL:https://members.kingcitychamber.com/events/details/aerial-fireworks-show-2909
END:VEVENT

END:VCALENDAR
