BEGIN:VCALENDAR
VERSION:2.0
PRODID:-//ChamberMaster//Event Calendar 2.0//EN
METHOD:PUBLISH
X-PUBLISHED-TTL:P3D
REFRESH-INTERVAL:P3D
CALSCALE:GREGORIAN
BEGIN:VEVENT
DTSTART:20190718T020000Z
DTEND:20190718T040000Z
X-MICROSOFT-CDO-ALLDAYEVENT:FALSE
SUMMARY:Big Week Professional Bull Riding
DESCRIPTION:The 2019 Professional Bull Riding Touring Pro Event will come back to Salinas Wednesday July 17\, 2019. This event features non-stop bull riding action with some of the top bull riders testing their skills in an arena close to the main grandstands. This event has sold out the past 4 years and is presented by Salinas Valley Ford. Gates open at 5pm and the show starts at 7pm. The edge-of-your-seat action will be followed up with finale fireworks. If you love bull riding\, you don't want to miss this event. Tickets are $40 for adult lower grandstand\, $30 for adult upper grandstand\, $10 for children ages 2-12 all grandstand\, $60 for box seats in section C & D (all ages) and $55 in sections A\, B\, E & F (all ages).* Visit www.CARODEO.com to purchase tickets\, view a seating chart and get more information.
X-ALT-DESC;FMTTYPE=text/html:The 2019 Professional Bull Riding Touring Pro Event will come back to Salinas Wednesday July 17\, 2019. This event features non-stop bull riding action with some of the top bull riders testing their skills in an arena close to the main grandstands. This event has sold out the past 4 years and is presented by Salinas Valley Ford. Gates open at 5pm and the show starts at 7pm. The edge-of-your-seat action will be followed up with finale fireworks. If you love bull riding\, you don&#39\;t want to miss this event. Tickets are $40 for adult lower grandstand\, $30 for adult upper grandstand\, $10 for children ages 2-12 all grandstand\, $60 for box seats in section C &amp\; D (all ages) and $55 in sections A\, B\, E &amp\; F (all ages).* Visit www.CARODEO.com to purchase tickets\, view a seating chart and get more information.
LOCATION:Salinas Sports Complex 1034 N. Main Street Salinas\, CA 93906
UID:e.2756.3706
SEQUENCE:3
DTSTAMP:20260424T135732Z
URL:https://members.kingcitychamber.com/events/details/big-week-professional-bull-riding-3706
END:VEVENT

END:VCALENDAR
