BEGIN:VCALENDAR
VERSION:2.0
PRODID:-//ChamberMaster//Event Calendar 2.0//EN
METHOD:PUBLISH
X-PUBLISHED-TTL:P3D
REFRESH-INTERVAL:P3D
CALSCALE:GREGORIAN
BEGIN:VEVENT
DTSTART:20200227T010000Z
DTEND:20200227T040000Z
X-MICROSOFT-CDO-ALLDAYEVENT:FALSE
SUMMARY:Blue Zones Project
DESCRIPTION:Blue Zones Project\, South County\, is a well-being initiative that's focused on bringing worksites\, grocery stores\, restaurants\, schools\, city leaders and residents like you together around a common goal: making healthy choices easier.\n\nJoin us to hear national speaker\, Tony Buettner share the history of Blue Zones and how the research of the world's longest lived cultures is creating a blueprint for well-being across America.
X-ALT-DESC;FMTTYPE=text/html:Blue Zones Project\, South County\, is a well-being initiative that&#39\;s focused on bringing worksites\, grocery stores\, restaurants\, schools\, city leaders and residents like you together around a common goal: making healthy choices easier.<br />\nJoin us to hear national speaker\, Tony Buettner share the history of Blue Zones and how the research of the world&#39\;s longest lived cultures is creating a blueprint for well-being across America.<br />\n&nbsp\;
LOCATION:Salinas Valley Fairgrounds\, 625 Division St.\, King City\, CA 93930
UID:e.2756.4169
SEQUENCE:3
DTSTAMP:20260423T085701Z
URL:https://members.kingcitychamber.com/events/details/blue-zones-project-4169
END:VEVENT

END:VCALENDAR
