BEGIN:VCALENDAR
VERSION:2.0
PRODID:-//ChamberMaster//Event Calendar 2.0//EN
METHOD:PUBLISH
X-PUBLISHED-TTL:P3D
REFRESH-INTERVAL:P3D
CALSCALE:GREGORIAN
BEGIN:VEVENT
DTSTART:20260402T190000Z
DTEND:20260402T200000Z
X-MICROSOFT-CDO-ALLDAYEVENT:FALSE
SUMMARY:Brand Storytelling for Small Business Success - Virtual Lunch & Learn
DESCRIPTION:Whether you are running an established business or just starting out\, it's important to make an authentic connection with buyers. This workshop will teach you how to level up your 2026 business marketing strategy using the power of story. In this one-hour virtual session\, you will learn about the building blocks of a clear\, concise\, and consistent company story. The right story\, skillfully told\, will positively influence your brand's perception in the market and drive customer loyalty. You will leave understanding how to create and maintain consistently branded marketing materials. If you nail one important marketing tactic this year\, make sure it's this one!
X-ALT-DESC;FMTTYPE=text/html:Whether you are running an established business or just starting out\, it&#39\;s important to make an authentic connection with buyers. This workshop will teach you how to level up your 2026 business marketing strategy using the power of story. In this one-hour virtual session\, you will learn about the building blocks of a clear\, concise\, and consistent company story. The right story\, skillfully told\, will positively influence your brand&#39\;s perception in the market and drive customer loyalty. You will leave understanding how to create and maintain consistently branded marketing materials. If you nail one important marketing tactic this year\, make sure it&#39\;s this one!
LOCATION:Online Via Zoom
UID:e.2756.6403
SEQUENCE:3
DTSTAMP:20260422T153728Z
URL:https://members.kingcitychamber.com/events/details/brand-storytelling-for-small-business-success-virtual-lunch-learn-6403
END:VEVENT

END:VCALENDAR
