BEGIN:VCALENDAR
VERSION:2.0
PRODID:-//ChamberMaster//Event Calendar 2.0//EN
METHOD:PUBLISH
X-PUBLISHED-TTL:P3D
REFRESH-INTERVAL:P3D
CALSCALE:GREGORIAN
BEGIN:VEVENT
DTSTART:20190523T153000Z
DTEND:20190523T170000Z
X-MICROSOFT-CDO-ALLDAYEVENT:FALSE
SUMMARY:Cal Coastal Small Business workshop
DESCRIPTION:Cal Coastal Small Business Development Center in partnership with the King City Chamber of Commerce and the City of King will be presenting a workshop: Tools to Grow your Sales & Market your Business.\n\nMore details TBA
X-ALT-DESC;FMTTYPE=text/html:Cal Coastal Small Business Development Center in partnership with the King City Chamber of Commerce and the City of King will be presenting a workshop: Tools to Grow your Sales &amp\; Market your Business.<br />\nMore details TBA
LOCATION:King City Council Chambers\, 212 S. Vanderhurst Ave\, King City\, CA
UID:e.2756.3674
SEQUENCE:3
DTSTAMP:20260424T161603Z
URL:https://members.kingcitychamber.com/events/details/cal-coastal-small-business-workshop-3674
END:VEVENT

END:VCALENDAR
