BEGIN:VCALENDAR
VERSION:2.0
PRODID:-//ChamberMaster//Event Calendar 2.0//EN
METHOD:PUBLISH
X-PUBLISHED-TTL:P3D
REFRESH-INTERVAL:P3D
CALSCALE:GREGORIAN
BEGIN:VEVENT
DTSTART:20190925T150000Z
DTEND:20190925T170000Z
X-MICROSOFT-CDO-ALLDAYEVENT:FALSE
SUMMARY:Cal Coastal Small Business workshop
DESCRIPTION:Cal Coastal Small Business Development Center in partnership with the King City Chamber of Commerce and the City of King will be presenting a two part educational workshop: Session 2 will cover "Managing Cash Flow."\n\nThis workshop will include: the purpose of cash flow management\, assess cash flow cycle and make cash flow projections\, identify ways to manage cash flow for managing costs and potential income\, seeking out expert technical assistance to improve cash flow.
X-ALT-DESC;FMTTYPE=text/html:Cal Coastal Small Business Development Center in partnership with the King City Chamber of Commerce and the City of King will be presenting a two part educational workshop: Session 2 will cover &quot\;Managing Cash Flow.&quot\;<br />\nThis workshop will include: the purpose of cash flow management\, assess cash flow cycle and make cash flow projections\, identify ways to manage cash flow for managing costs and potential income\, seeking out expert technical assistance to improve cash flow.<br />\n&nbsp\;
LOCATION:King City Council Chambers\, 212 S. Vanderhurst Ave\, King City\, CA
UID:e.2756.3676
SEQUENCE:3
DTSTAMP:20260424T091231Z
URL:https://members.kingcitychamber.com/events/details/cal-coastal-small-business-workshop-3676
END:VEVENT

END:VCALENDAR
