BEGIN:VCALENDAR
VERSION:2.0
PRODID:-//ChamberMaster//Event Calendar 2.0//EN
METHOD:PUBLISH
X-PUBLISHED-TTL:P3D
REFRESH-INTERVAL:P3D
CALSCALE:GREGORIAN
BEGIN:VEVENT
DTSTART:20190911T153000Z
DTEND:20190911T173000Z
X-MICROSOFT-CDO-ALLDAYEVENT:FALSE
SUMMARY:Coffee with a Cop
DESCRIPTION:Coffee with a Cop - KCPD at Starbucks
X-ALT-DESC;FMTTYPE=text/html:Coffee with a Cop - KCPD at Starbucks
LOCATION:1301 Broadway\, King City
UID:e.2756.3743
SEQUENCE:3
DTSTAMP:20260424T090740Z
URL:https://members.kingcitychamber.com/events/details/coffee-with-a-cop-3743
END:VEVENT

END:VCALENDAR
