BEGIN:VCALENDAR
VERSION:2.0
PRODID:-//ChamberMaster//Event Calendar 2.0//EN
METHOD:PUBLISH
X-PUBLISHED-TTL:P3D
REFRESH-INTERVAL:P3D
CALSCALE:GREGORIAN
BEGIN:VEVENT
DTSTART;VALUE=DATE:20190511
DTEND;VALUE=DATE:20190512
TRANSP:TRANSPARENT
X-MICROSOFT-CDO-ALLDAYEVENT:TRUE
SUMMARY:Dutch Oven Cook-off Event
DESCRIPTION:Dutch Oven Cook-Off Event\,
X-ALT-DESC;FMTTYPE=text/html:Dutch Oven Cook-Off Event\,
LOCATION:69125 Jolon Rd.\, Lockwood\, CA
UID:e.2756.3699
SEQUENCE:3
DTSTAMP:20260424T161719Z
URL:https://members.kingcitychamber.com/events/details/dutch-oven-cook-off-event-3699
END:VEVENT

END:VCALENDAR
