BEGIN:VCALENDAR
VERSION:2.0
PRODID:-//ChamberMaster//Event Calendar 2.0//EN
METHOD:PUBLISH
X-PUBLISHED-TTL:P3D
REFRESH-INTERVAL:P3D
CALSCALE:GREGORIAN
BEGIN:VEVENT
DTSTART:20200214T190000Z
DTEND:20200214T220000Z
X-MICROSOFT-CDO-ALLDAYEVENT:FALSE
SUMMARY:Edward Jones Open House
DESCRIPTION:Join us at our Open House! Leno's sausage lunch and Valentines Sweet Treats.\n\nCome meet Jamie\, our new Branch Office Administrator.
X-ALT-DESC;FMTTYPE=text/html:Join us at our Open House! Leno&#39\;s sausage lunch and Valentines Sweet Treats.<br />\nCome meet Jamie\, our new Branch Office Administrator.
LOCATION:Edward Jones office\, 422 Broadway King City\, CA 93930
UID:e.2756.4139
SEQUENCE:3
DTSTAMP:20260423T085951Z
URL:https://members.kingcitychamber.com/events/details/edward-jones-open-house-4139
END:VEVENT

END:VCALENDAR
