BEGIN:VCALENDAR
VERSION:2.0
PRODID:-//ChamberMaster//Event Calendar 2.0//EN
METHOD:PUBLISH
X-PUBLISHED-TTL:P3D
REFRESH-INTERVAL:P3D
CALSCALE:GREGORIAN
BEGIN:VEVENT
DTSTART:20190830T010000Z
DTEND:20190830T020000Z
X-MICROSOFT-CDO-ALLDAYEVENT:FALSE
SUMMARY:Edward Jones Social Security Seminar
DESCRIPTION:Social Security Seminar\, led by Alex Gourley\, Edward Jones Investments
X-ALT-DESC;FMTTYPE=text/html:Social Security Seminar\, led by Alex Gourley\, Edward Jones Investments
LOCATION:the Cork & Plough\, 200 Broadway\, King City
UID:e.2756.3735
SEQUENCE:3
DTSTAMP:20260424T091422Z
URL:https://members.kingcitychamber.com/events/details/edward-jones-social-security-seminar-3735
END:VEVENT

END:VCALENDAR
