BEGIN:VCALENDAR
VERSION:2.0
PRODID:-//ChamberMaster//Event Calendar 2.0//EN
METHOD:PUBLISH
X-PUBLISHED-TTL:P3D
REFRESH-INTERVAL:P3D
CALSCALE:GREGORIAN
BEGIN:VEVENT
DTSTART:20190706T170000Z
DTEND:20190706T210000Z
X-MICROSOFT-CDO-ALLDAYEVENT:FALSE
SUMMARY:First 5 Summer Reading Outside
DESCRIPTION:First 5 Summer Reading Outside
X-ALT-DESC;FMTTYPE=text/html:First 5 Summer Reading Outside
LOCATION:402 Broadway St.\, King City
UID:e.2756.3720
SEQUENCE:3
DTSTAMP:20260424T113852Z
URL:https://members.kingcitychamber.com/events/details/first-5-summer-reading-outside-3720
END:VEVENT

END:VCALENDAR
