BEGIN:VCALENDAR
VERSION:2.0
PRODID:-//ChamberMaster//Event Calendar 2.0//EN
METHOD:PUBLISH
X-PUBLISHED-TTL:P3D
REFRESH-INTERVAL:P3D
CALSCALE:GREGORIAN
BEGIN:VEVENT
DTSTART:20190702T180000Z
DTEND:20190702T220000Z
X-MICROSOFT-CDO-ALLDAYEVENT:FALSE
SUMMARY:Freedom Blood Drive
DESCRIPTION:Freedom Blood Drive
X-ALT-DESC;FMTTYPE=text/html:Freedom Blood Drive
LOCATION:Edward Jones office\, 422 Broadway\, King City
UID:e.2756.3719
SEQUENCE:3
DTSTAMP:20260424T120520Z
URL:https://members.kingcitychamber.com/events/details/freedom-blood-drive-3719
END:VEVENT

END:VCALENDAR
