BEGIN:VCALENDAR
VERSION:2.0
PRODID:-//ChamberMaster//Event Calendar 2.0//EN
METHOD:PUBLISH
X-PUBLISHED-TTL:P3D
REFRESH-INTERVAL:P3D
CALSCALE:GREGORIAN
BEGIN:VEVENT
DTSTART:20190904T183000Z
DTEND:20190904T190000Z
X-MICROSOFT-CDO-ALLDAYEVENT:FALSE
SUMMARY:KCPD Peace Officer Oath
DESCRIPTION:King City Police Department Peace Officer Oath\n\nWelcoming  New Captain
X-ALT-DESC;FMTTYPE=text/html:King City Police Department Peace Officer Oath<br />\nWelcoming&nbsp\; New Captain
LOCATION:Council Chambers at City Hall\, 212 S. Vanderhurst Ave. King City
UID:e.2756.3739
SEQUENCE:3
DTSTAMP:20260424T091259Z
URL:https://members.kingcitychamber.com/events/details/kcpd-peace-officer-oath-3739
END:VEVENT

END:VCALENDAR
