BEGIN:VCALENDAR
VERSION:2.0
PRODID:-//ChamberMaster//Event Calendar 2.0//EN
METHOD:PUBLISH
X-PUBLISHED-TTL:P3D
REFRESH-INTERVAL:P3D
CALSCALE:GREGORIAN
BEGIN:VEVENT
DTSTART:20200225T220000Z
DTEND:20200226T000000Z
X-MICROSOFT-CDO-ALLDAYEVENT:FALSE
SUMMARY:KCUS District Inaugural Spring Resource Fair
DESCRIPTION:King City Union School District Inaugural Spring resource fair
X-ALT-DESC;FMTTYPE=text/html:King City Union School District Inaugural Spring resource fair
LOCATION:104 S. Vanderhurst St.\, King City
UID:e.2756.4167
SEQUENCE:3
DTSTAMP:20260423T085602Z
URL:https://members.kingcitychamber.com/events/details/kcus-district-inaugural-spring-resource-fair-4167
END:VEVENT

END:VCALENDAR
