BEGIN:VCALENDAR
VERSION:2.0
PRODID:-//ChamberMaster//Event Calendar 2.0//EN
METHOD:PUBLISH
X-PUBLISHED-TTL:P3D
REFRESH-INTERVAL:P3D
CALSCALE:GREGORIAN
BEGIN:VEVENT
DTSTART:20191103T150000Z
DTEND:20191103T220000Z
X-MICROSOFT-CDO-ALLDAYEVENT:FALSE
SUMMARY:King City Flea Market
DESCRIPTION:Admission $1\n\nNew & Used Goods\n\nDelicious Food\n\nFresh Fruit & Vegetables
X-ALT-DESC;FMTTYPE=text/html:Admission $1<br />\nNew &amp\; Used Goods<br />\nDelicious Food<br />\nFresh Fruit &amp\; Vegetables
LOCATION:Salinas Valley Fairgrounds
UID:e.2756.3823
SEQUENCE:3
DTSTAMP:20260424T040745Z
URL:https://members.kingcitychamber.com/events/details/king-city-flea-market-3823
END:VEVENT

END:VCALENDAR
