BEGIN:VCALENDAR
VERSION:2.0
PRODID:-//ChamberMaster//Event Calendar 2.0//EN
METHOD:PUBLISH
X-PUBLISHED-TTL:P3D
REFRESH-INTERVAL:P3D
CALSCALE:GREGORIAN
BEGIN:VEVENT
DTSTART:20190717T180000Z
DTEND:20190717T190000Z
X-MICROSOFT-CDO-ALLDAYEVENT:FALSE
SUMMARY:King City Library Summer Reading Program
DESCRIPTION:Summer Reading Program Event at the King City Library.\n\nPython Ron - Live Animals
X-ALT-DESC;FMTTYPE=text/html:Summer Reading Program Event at the King City Library.<br />\nPython Ron - Live Animals
LOCATION:King City Library\, 404 Broadway St.\, King City
UID:e.2756.3724
SEQUENCE:3
DTSTAMP:20260424T132047Z
URL:https://members.kingcitychamber.com/events/details/king-city-library-summer-reading-program-3724
END:VEVENT

END:VCALENDAR
