BEGIN:VCALENDAR
VERSION:2.0
PRODID:-//ChamberMaster//Event Calendar 2.0//EN
METHOD:PUBLISH
X-PUBLISHED-TTL:P3D
REFRESH-INTERVAL:P3D
CALSCALE:GREGORIAN
BEGIN:VEVENT
DTSTART:20190716T183000Z
DTEND:20190716T190000Z
X-MICROSOFT-CDO-ALLDAYEVENT:FALSE
SUMMARY:Learn how to become a Teacher!
DESCRIPTION:Interested in becoming a Teacher? Join the Teacher Pathway Program (TPP) or MAESTROs! Check out our upcoming Info Sessions to Learn more:
X-ALT-DESC;FMTTYPE=text/html:Interested in becoming a Teacher? Join the Teacher Pathway Program (TPP) or MAESTROs! Check out our upcoming Info Sessions to Learn more:
LOCATION:King City Education Center\, room 210A
UID:e.2756.3730
SEQUENCE:3
DTSTAMP:20260424T104721Z
URL:https://members.kingcitychamber.com/events/details/learn-how-to-become-a-teacher-3730
END:VEVENT

END:VCALENDAR
