BEGIN:VCALENDAR
VERSION:2.0
PRODID:-//ChamberMaster//Event Calendar 2.0//EN
METHOD:PUBLISH
X-PUBLISHED-TTL:P3D
REFRESH-INTERVAL:P3D
CALSCALE:GREGORIAN
BEGIN:VEVENT
DTSTART:20200403T003000Z
DTEND:20200403T023000Z
X-MICROSOFT-CDO-ALLDAYEVENT:FALSE
SUMMARY:MCARLM Jo Mora Lecture
DESCRIPTION:Member/Invite required. Listen to Jo Mora Trust Collection Curator\, Peter Hiller as he shares stories and images of the colorful an creative life of Joseph Jacinto "Jo" Mora.
X-ALT-DESC;FMTTYPE=text/html:Member/Invite required. Listen to Jo Mora Trust Collection Curator\, Peter Hiller as he shares stories and images of the colorful an creative life of Joseph Jacinto &quot\;Jo&quot\; Mora.
LOCATION:De Anza Building ~ San Lorenzo Park
UID:e.2756.4171
SEQUENCE:3
DTSTAMP:20260423T190912Z
URL:https://members.kingcitychamber.com/events/details/mcarlm-jo-mora-lecture-4171
END:VEVENT

END:VCALENDAR
