BEGIN:VCALENDAR
VERSION:2.0
PRODID:-//ChamberMaster//Event Calendar 2.0//EN
METHOD:PUBLISH
X-PUBLISHED-TTL:P3D
REFRESH-INTERVAL:P3D
CALSCALE:GREGORIAN
BEGIN:VEVENT
DTSTART:20190921T180000Z
DTEND:20190921T210000Z
X-MICROSOFT-CDO-ALLDAYEVENT:FALSE
SUMMARY:Monterey Dance Foundation Fundraiser
DESCRIPTION:Monterey Dance Foundation Sausage Meal Fundraiser\n\nMeal includes sausage\, bun\, soda & chips
X-ALT-DESC;FMTTYPE=text/html:Monterey Dance Foundation Sausage Meal Fundraiser<br />\nMeal includes sausage\, bun\, soda &amp\; chips
LOCATION:At the Dance studio on Vanderhurst Ave\, King City.
UID:e.2756.3738
SEQUENCE:3
DTSTAMP:20260424T091008Z
URL:https://members.kingcitychamber.com/events/details/monterey-dance-foundation-fundraiser-3738
END:VEVENT

END:VCALENDAR
