BEGIN:VCALENDAR
VERSION:2.0
PRODID:-//ChamberMaster//Event Calendar 2.0//EN
METHOD:PUBLISH
X-PUBLISHED-TTL:P3D
REFRESH-INTERVAL:P3D
CALSCALE:GREGORIAN
BEGIN:VEVENT
DTSTART:20200208T020000Z
DTEND:20200208T040000Z
X-MICROSOFT-CDO-ALLDAYEVENT:FALSE
SUMMARY:Scheid Family Movie Night
DESCRIPTION:Scheid Family Movie Night.\n\nEnjoy Family Friendly Movie Night while you eat popcorn\, snacks and of course some wine!
X-ALT-DESC;FMTTYPE=text/html:Scheid Family Movie Night.<br />\nEnjoy Family Friendly Movie Night while you eat popcorn\, snacks and of course some wine!
LOCATION:Greenfield Tasting Room\, 1972 Hobson Ave\, Greenfield No reservation necessary.
UID:e.2756.4151
SEQUENCE:3
DTSTAMP:20260423T090250Z
URL:https://members.kingcitychamber.com/events/details/scheid-family-movie-night-4151
END:VEVENT

END:VCALENDAR
