BEGIN:VCALENDAR
VERSION:2.0
PRODID:-//ChamberMaster//Event Calendar 2.0//EN
METHOD:PUBLISH
X-PUBLISHED-TTL:P3D
REFRESH-INTERVAL:P3D
CALSCALE:GREGORIAN
BEGIN:VEVENT
DTSTART:20190818T010000Z
DTEND:20190818T050000Z
X-MICROSOFT-CDO-ALLDAYEVENT:FALSE
SUMMARY:Sol Treasures Annual Gala Fundraiser Dinner
DESCRIPTION:Let Us Take You to Broadway - Broadway musical review!\n\nLive and Silent Auctions. Annual Gala fundraiser Dinner
X-ALT-DESC;FMTTYPE=text/html:Let Us Take You to Broadway - Broadway musical review!<br />\nLive and Silent Auctions. Annual Gala fundraiser Dinner
LOCATION:625 Division St\, King City. Salinas Valley Fairgrounds\, Orradre Building.
UID:e.2756.3731
SEQUENCE:3
DTSTAMP:20260424T091520Z
URL:https://members.kingcitychamber.com/events/details/sol-treasures-annual-gala-fundraiser-dinner-3731
END:VEVENT

END:VCALENDAR
