BEGIN:VCALENDAR
VERSION:2.0
PRODID:-//ChamberMaster//Event Calendar 2.0//EN
METHOD:PUBLISH
X-PUBLISHED-TTL:P3D
REFRESH-INTERVAL:P3D
CALSCALE:GREGORIAN
BEGIN:VEVENT
DTSTART:20190720T010000Z
DTEND:20190720T030000Z
X-MICROSOFT-CDO-ALLDAYEVENT:FALSE
SUMMARY:Sol Treasures Backyard Concerts
DESCRIPTION:Back Yard Concert \n\nTod Dickow and Charged Particles. (an offshoot of the Lunar Octet group that appeared here last year).  \n\nBay Area saxophonist Tod Dickow and the Stanford-based Charged Particles Trio will perform a wide swath of music from several eras. The trio has performed for many years throughout the U.S and is comprised of two Stanford faculty members.\n\n Concert Sponsors: King City Veterinary Hospital\, The Dogfather
X-ALT-DESC;FMTTYPE=text/html:<span style="font-size:14px\;"><strong>Back Yard Concert</strong>&nbsp\;<br />\n<strong>Tod Dickow and Charged Particles</strong>.</span>&nbsp\;<span style="color:#294B93\;"><span style="font-family:arial\,sans-serif\;">(an offshoot of the Lunar Octet group that appeared here last year).</span></span>&nbsp\;&nbsp\;<br />\n<span style="color:#294B93\;"><span style="font-family:arial\,sans-serif\;">Bay Area saxophonist Tod Dickow and the Stanford-based Charged Particles Trio will&nbsp\;perform a wide swath of&nbsp\;music from several eras.&nbsp\;The trio has performed for many years throughout the U.S and is comprised of two Stanford faculty members.</span></span><br />\n&nbsp\;<span style="font-size:14px\;"><strong><span style="color:black\;"><span style="font-family:arial\,sans-serif\;">Concert Sponsors: King City Veterinary Hospital\, The Dogfather</span></span></strong></span>
LOCATION:Sol Treasures Backyard\, 519 Broadway\, King City Bring a chair\, picnic dinner or snacks and drinks.
UID:e.2756.3726
SEQUENCE:3
DTSTAMP:20260424T132413Z
URL:https://members.kingcitychamber.com/events/details/sol-treasures-backyard-concerts-3726
END:VEVENT

END:VCALENDAR
