BEGIN:VCALENDAR
VERSION:2.0
PRODID:-//ChamberMaster//Event Calendar 2.0//EN
METHOD:PUBLISH
X-PUBLISHED-TTL:P3D
REFRESH-INTERVAL:P3D
CALSCALE:GREGORIAN
BEGIN:VEVENT
DTSTART:20190925T010000Z
DTEND:20190926T020000Z
X-MICROSOFT-CDO-ALLDAYEVENT:FALSE
SUMMARY:Start Smart KC Highway Patrol
DESCRIPTION:King City Highway Patrol Start Smart One Hour Driver's Education Course
X-ALT-DESC;FMTTYPE=text/html:King City Highway Patrol Start Smart One Hour Driver&#39\;s Education Course
LOCATION:Highway Patrol Office\, #2 Broadway Circle\, King City
UID:e.2756.3741
SEQUENCE:3
DTSTAMP:20260424T091231Z
URL:https://members.kingcitychamber.com/events/details/start-smart-kc-highway-patrol-3741
END:VEVENT

END:VCALENDAR
