BEGIN:VCALENDAR
VERSION:2.0
PRODID:-//ChamberMaster//Event Calendar 2.0//EN
METHOD:PUBLISH
X-PUBLISHED-TTL:P3D
REFRESH-INTERVAL:P3D
CALSCALE:GREGORIAN
BEGIN:VEVENT
DTSTART:20200322T210000Z
DTEND:20200322T230000Z
X-MICROSOFT-CDO-ALLDAYEVENT:FALSE
SUMMARY:The Stage Hands Presents "Sister Act"
DESCRIPTION:This event has been postponed to a later date.\n\nThe Stage Hands presents Sister Act - A Divine Musical Comedy.
X-ALT-DESC;FMTTYPE=text/html:<span style="font-size:18px\;"><span style="color:#FF0000\;"><strong>This event has been postponed to a later date.</strong></span></span><br />\nThe Stage Hands presents <strong><em>Sister Act - A Divine Musical Comedy.</em></strong>
LOCATION:St. Mark's Episcopal Church Hall\, 301 Bassett St. King City
UID:e.2756.4180
SEQUENCE:3
DTSTAMP:20260423T221428Z
URL:https://members.kingcitychamber.com/events/details/the-stage-hands-presents-sister-act-4180
END:VEVENT

END:VCALENDAR
