BEGIN:VCALENDAR
VERSION:2.0
PRODID:-//ChamberMaster//Event Calendar 2.0//EN
METHOD:PUBLISH
X-PUBLISHED-TTL:P3D
REFRESH-INTERVAL:P3D
CALSCALE:GREGORIAN
BEGIN:VEVENT
DTSTART:20191021T013000Z
DTEND:20191021T043000Z
X-MICROSOFT-CDO-ALLDAYEVENT:FALSE
SUMMARY:The Stage Hands presents "Sylvia"
DESCRIPTION:The Stage Hands presents "Sylvia" dinner theater.
X-ALT-DESC;FMTTYPE=text/html:The Stage Hands presents &quot\;Sylvia&quot\; dinner theater.&nbsp\;
LOCATION:St. Mark's Hall\, 301 Bassett St\, King City.
UID:e.2756.3780
SEQUENCE:3
DTSTAMP:20260424T063839Z
URL:https://members.kingcitychamber.com/events/details/the-stage-hands-presents-sylvia-3780
END:VEVENT

END:VCALENDAR
